Workbook

Sheet Front-Page
B2: Dubwath Silver Meadows
B3: International Dawn Chorus Day: birds recorded from 2009 -2026 at location Grid Ref NY 198 307
B4: With 18 years worth of information, time to summarise it! | H4: The DawnChorus tab gives the full list of information.
D5: 2026 data | E5: 2025 data | G5: Summary data
B6: (# means seen on the day) | D6: seen on: | E6: seen on: | G6: number of times seen over:
A7: =DawnChorus!A5 -> Common name | B7: =DawnChorus!B5 -> Latin name | D7: 46145 | E7: 45781 | G7: =DawnChorus!W6 -> 18 | H7: years
A9: =DawnChorus!A7 -> Barn Owl | B9: =DawnChorus!B7 -> Tyto alba | G9: =DawnChorus!W7 -> 8
A10: =DawnChorus!A8 -> Blackbird | B10: =DawnChorus!B8 -> Turdus merula | D10: =DawnChorus!D8 -> # | E10: =DawnChorus!E8 -> # | G10: =DawnChorus!W8 -> 18
A11: =DawnChorus!A9 -> Blackcap | B11: =DawnChorus!B9 -> Sylvia atricapilla | D11: =DawnChorus!D9 -> # | E11: =DawnChorus!E9 -> # | G11: =DawnChorus!W9 -> 16
A12: =DawnChorus!A10 -> Blue Tit | B12: =DawnChorus!B10 -> Parus caeruleus | D12: =DawnChorus!D10 -> # | E12: =DawnChorus!E10 -> # | G12: =DawnChorus!W10 -> 18
A13: =DawnChorus!A11 -> Brambling | B13: =DawnChorus!B11 -> Fringilla montifringilla | G13: =DawnChorus!W11 -> 0
A14: =DawnChorus!A12 -> Bullfinch | B14: =DawnChorus!B12 -> Pyrrhula pyrrhula | E14: =DawnChorus!E12 -> # | G14: =DawnChorus!W12 -> 5
A15: =DawnChorus!A13 -> Buzzard | B15: =DawnChorus!B13 -> Buteo buteo | G15: =DawnChorus!W13 -> 7
A16: =DawnChorus!A14 -> Canada Goose | B16: =DawnChorus!B14 -> Branta Canadensis | G16: =DawnChorus!W14 -> 3
A17: =DawnChorus!A15 -> Carrion Crow | B17: =DawnChorus!B15 -> Corvus corone corone | D17: =DawnChorus!D15 -> # | E17: =DawnChorus!E15 -> # | G17: =DawnChorus!W15 -> 18
A18: =DawnChorus!A16 -> Chaffinch | B18: =DawnChorus!B16 -> Fringilla coelebs | E18: =DawnChorus!E16 -> # | G18: =DawnChorus!W16 -> 17
A19: =DawnChorus!A17 -> Chiffchaff | B19: =DawnChorus!B17 -> Phylloscopus collybita | D19: =DawnChorus!D17 -> # | E19: =DawnChorus!E17 -> # | G19: =DawnChorus!W17 -> 16
A20: =DawnChorus!A18 -> Coal Tit | B20: =DawnChorus!B18 -> Parus ater | D20: =DawnChorus!D18 -> # | E20: =DawnChorus!E18 -> # | G20: =DawnChorus!W18 -> 17
A21: =DawnChorus!A19 -> Collared Dove | B21: =DawnChorus!B19 -> Streptopelia decaocto | G21: =DawnChorus!W19 -> 3
A22: =DawnChorus!A20 -> Common Sandpiper | B22: =DawnChorus!B20 -> Actitis hypoleucos | G22: =DawnChorus!W20 -> 2
A23: =DawnChorus!A21 -> Cormorant | B23: =DawnChorus!B21 -> Phalacrocorax carbo | E23: =DawnChorus!E21 -> # | G23: =DawnChorus!W21 -> 3
A24: =DawnChorus!A22 -> Cuckoo | B24: =DawnChorus!B22 -> Cuculus canorus | D24: =DawnChorus!D22 -> # | E24: =DawnChorus!E22 -> # | G24: =DawnChorus!W22 -> 8
A25: =DawnChorus!A23 -> Curlew | B25: =DawnChorus!B23 -> Numenius arquata | E25: =DawnChorus!E23 -> # | G25: =DawnChorus!W23 -> 5
A26: =DawnChorus!A24 -> Dunnock | B26: =DawnChorus!B24 -> Prunella modularis | E26: =DawnChorus!E24 -> # | G26: =DawnChorus!W24 -> 15
A27: =DawnChorus!A25 -> Garden Warbler | B27: =DawnChorus!B25 -> Sylvia borin | D27: =DawnChorus!D25 -> # | G27: =DawnChorus!W25 -> 11
A28: =DawnChorus!A26 -> Goldcrest | B28: =DawnChorus!B26 -> Regulus regulus | G28: =DawnChorus!W26 -> 6
A29: =DawnChorus!A27 -> Goldfinch | B29: =DawnChorus!B27 -> Carduelis carduelis | D29: =DawnChorus!D27 -> # | E29: =DawnChorus!E27 -> # | G29: =DawnChorus!W27 -> 18
A30: =DawnChorus!A28 -> Goosander | B30: =DawnChorus!B28 -> Mergus merganser | G30: =DawnChorus!W28 -> 5
A31: =DawnChorus!A31 -> Great Crested Grebe | B31: =DawnChorus!B31 -> Podiceps cristatus | D31: =DawnChorus!D29 -> # | E31: =DawnChorus!E31 -> # | G31: =DawnChorus!W31 -> 1
A32: =DawnChorus!A32 -> Great Spotted Woodpecker | B32: =DawnChorus!B32 -> Dendrocopos major | D32: =DawnChorus!D30 -> # | E32: =DawnChorus!E32 -> # | G32: =DawnChorus!W32 -> 16
A33: =DawnChorus!A33 -> Great Tit | B33: =DawnChorus!B33 -> Parus major | E33: =DawnChorus!E33 -> # | G33: =DawnChorus!W33 -> 18
A34: =DawnChorus!A34 -> Greenfinch | B34: =DawnChorus!B34 -> Carduelis chloris | E34: =DawnChorus!E34 -> # | G34: =DawnChorus!W34 -> 11
A35: =DawnChorus!A35 -> Greylag Goose | B35: =DawnChorus!B35 -> Anser anser | D35: =DawnChorus!D33 -> # | E35: =DawnChorus!E35 -> # | G35: =DawnChorus!W35 -> 16
A36: =DawnChorus!A36 -> Heron | B36: =DawnChorus!B36 -> Ardea cinerea | E36: =DawnChorus!E36 -> # | G36: =DawnChorus!W36 -> 11
A37: =DawnChorus!A37 -> Herring Gull | B37: =DawnChorus!B37 -> Larus argentatus | D37: =DawnChorus!D35 -> # | E37: =DawnChorus!E37 -> # | G37: =DawnChorus!W37 -> 4
A38: =DawnChorus!A38 -> House Martin | B38: =DawnChorus!B38 -> Delichon urbica | E38: =DawnChorus!E38 -> # | G38: =DawnChorus!W38 -> 4
A39: =DawnChorus!A39 -> House Sparrow | B39: =DawnChorus!B39 -> Passer domesticus | G39: =DawnChorus!W39 -> 13
A40: =DawnChorus!A40 -> Jackdaw | B40: =DawnChorus!B40 -> Corvus monedula | G40: =DawnChorus!W40 -> 14
A41: =DawnChorus!A41 -> Jay | B41: =DawnChorus!B41 -> Garruls glandarius | D41: =DawnChorus!D39 -> # | G41: =DawnChorus!W41 -> 9
A42: =DawnChorus!A42 -> Kestrel | B42: =DawnChorus!B42 -> Falco tinnunculus | E42: =DawnChorus!E42 -> # | G42: =DawnChorus!W42 -> 5
...

Sheet DawnChorus
A1: Dubwath Silver Meadows
B2: International Dawn Chorus Day: birds recorded from 2009 - 2026 at location Grid Ref NY 198 307
J4: # = observed on the morning of the day.
A5: Common name | B5: Latin name | D5: 2026 | E5: 2025 | F5: 2024 | G5: 2023 | H5: 2022 | I5: 2021 | J5: 2020 | K5: 2019 | L5: 2018 | M5: 2017 | N5: 2016 | O5: 2015 | P5: 2014 | Q5: 2013 | R5: 2012 | S5: 2011 | T5: 2010 | U5: 2009 | W5: No. times seen in
D6: 46145 | E6: 45781 | F6: 45417 | G6: 45053 | H6: 44682 | I6: 44318 | J6: 43954 | K6: 43590 | L6: 43226 | M6: 42862 | N6: 42491 | O6: 42127 | P6: 41763 | Q6: 41399 | R6: 41035 | S6: 40664 | T6: 40300 | U6: 39936 | W6: =COUNTA(D5:U5) -> 18 | X6: years
A7: Barn Owl | B7: Tyto alba | F7: # | G7: # | H7: # | J7: # | K7: # | P7: # | R7: # | S7: # | W7: =COUNTA(D7:U7) -> 8
A8: Blackbird | B8: Turdus merula | D8: # | E8: # | F8: # | G8: # | H8: # | I8: # | J8: # | K8: # | L8: # | M8: # | N8: # | O8: # | P8: # | Q8: # | R8: # | S8: # | T8: # | U8: # | W8: =COUNTA(D8:U8) -> 18
A9: Blackcap | B9: Sylvia atricapilla | D9: # | E9: # | F9: # | G9: # | H9: # | I9: # | J9: # | K9: # | L9: # | M9: # | N9: # | P9: # | Q9: # | R9: # | S9: # | U9: # | W9: =COUNTA(D9:U9) -> 16
A10: Blue Tit | B10: Parus caeruleus | D10: # | E10: # | F10: # | G10: # | H10: # | I10: # | J10: # | K10: # | L10: # | M10: # | N10: # | O10: # | P10: # | Q10: # | R10: # | S10: # | T10: # | U10: # | W10: =COUNTA(D10:U10) -> 18
A11: Brambling | B11: Fringilla montifringilla | W11: =COUNTA(D11:U11) -> 0
A12: Bullfinch | B12: Pyrrhula pyrrhula | E12: # | H12: # | M12: # | R12: # | S12: # | W12: =COUNTA(D12:U12) -> 5
A13: Buzzard | B13: Buteo buteo | K13: # | M13: # | P13: # | Q13: # | R13: # | S13: # | U13: # | W13: =COUNTA(D13:U13) -> 7
A14: Canada Goose | B14: Branta Canadensis | F14: # | J14: # | M14: # | W14: =COUNTA(D14:U14) -> 3
A15: Carrion Crow | B15: Corvus corone corone | D15: # | E15: # | F15: # | G15: # | H15: # | I15: # | J15: # | K15: # | L15: # | M15: # | N15: # | O15: # | P15: # | Q15: # | R15: # | S15: # | T15: # | U15: # | W15: =COUNTA(D15:U15) -> 18
A16: Chaffinch | B16: Fringilla coelebs | E16: # | F16: # | G16: # | H16: # | I16: # | J16: # | K16: # | L16: # | M16: # | N16: # | O16: # | P16: # | Q16: # | R16: # | S16: # | T16: # | U16: # | W16: =COUNTA(D16:U16) -> 17
A17: Chiffchaff | B17: Phylloscopus collybita | D17: # | E17: # | F17: # | G17: # | H17: # | I17: # | J17: # | K17: # | L17: # | N17: # | O17: # | P17: # | Q17: # | R17: # | S17: # | T17: # | W17: =COUNTA(D17:U17) -> 16
A18: Coal Tit | B18: Parus ater | D18: # | E18: # | F18: # | G18: # | H18: # | I18: z | J18: # | K18: # | L18: # | M18: # | N18: # | O18: # | P18: # | Q18: # | R18: # | S18: # | T18: # | W18: =COUNTA(D18:U18) -> 17
A19: Collared Dove | B19: Streptopelia decaocto | G19: # | K19: # | L19: # | W19: =COUNTA(D19:U19) -> 3
A20: Common Sandpiper | B20: Actitis hypoleucos | Q20: # | S20: # | W20: =COUNTA(D20:U20) -> 2
A21: Cormorant | B21: Phalacrocorax carbo | E21: # | N21: # | R21: # | W21: =COUNTA(D21:U21) -> 3
A22: Cuckoo | B22: Cuculus canorus | D22: # | E22: # | F22: # | G22: # | I22: x | K22: # | L22: # | M22: # | W22: =COUNTA(D22:U22) -> 8
A23: Curlew | B23: Numenius arquata | E23: # | I23: x | K23: # | N23: # | R23: # | W23: =COUNTA(D23:U23) -> 5
A24: Dunnock | B24: Prunella modularis | E24: # | F24: # | G24: # | H24: # | I24: # | J24: ## | K24: # | M24: # | N24: # | O24: # | P24: # | Q24: # | R24: # | S24: # | T24: # | W24: =COUNTA(D24:U24) -> 15
A25: Garden Warbler | B25: Sylvia borin | D25: # | H25: # | I25: z | J25: # | K25: # | L25: # | M25: # | Q25: # | S25: # | T25: # | U25: # | W25: =COUNTA(D25:U25) -> 11
A26: Goldcrest | B26: Regulus regulus | G26: # | H26: # | I26: z | K26: # | L26: # | M26: # | W26: =COUNTA(D26:U26) -> 6
A27: Goldfinch | B27: Carduelis carduelis | D27: # | E27: # | F27: # | G27: # | H27: # | I27: z | J27: # | K27: # | L27: # | M27: # | N27: # | O27: # | P27: # | Q27: # | R27: # | S27: # | T27: # | U27: # | W27: =COUNTA(D27:U27) -> 18
A28: Goosander | B28: Mergus merganser | G28: # | H28: # | M28: # | R28: # | S28: # | W28: =COUNTA(D28:U28) -> 5
A29: Grasshopper warbler | B29: Locustella naevia | D29: # | E29: # | F29: # | G29: # | H29: # | J29: ## | M29: # | N29: # | P29: # | R29: # | S29: # | T29: # | U29: # | W29: =COUNTA(D29:U29) -> 13
A30: Great Blackbacked Gull | B30: Larus Marunus | D30: # | W30: =COUNTA(D30:U30) -> 1
A31: Great Crested Grebe | B31: Podiceps cristatus | E31: # | W31: =COUNTA(D31:U31) -> 1
A32: Great Spotted Woodpecker | B32: Dendrocopos major | E32: # | G32: # | H32: # | I32: z | J32: # | K32: # | L32: # | M32: # | N32: # | O32: # | P32: # | Q32: # | R32: # | S32: # | T32: # | U32: # | W32: =COUNTA(D32:U32) -> 16
A33: Great Tit | B33: Parus major | D33: # | E33: # | F33: # | G33: # | H33: # | I33: # | J33: # | K33: # | L33: # | M33: # | N33: # | O33: # | P33: # | Q33: # | R33: # | S33: # | T33: # | U33: # | W33: =COUNTA(D33:U33) -> 18
A34: Greenfinch | B34: Carduelis chloris | E34: # | G34: # | H34: # | J34: # | K34: # | M34: # | Q34: # | R34: # | S34: # | T34: # | U34: # | W34: =COUNTA(D34:U34) -> 11
A35: Greylag Goose | B35: Anser anser | D35: # | E35: # | F35: # | G35: # | H35: # | I35: # | J35: # | K35: # | L35: # | M35: # | N35: # | Q35: # | R35: # | S35: # | T35: # | U35: # | W35: =COUNTA(D35:U35) -> 16
A36: Heron | B36: Ardea cinerea | E36: # | F36: # | G36: # | I36: x | J36: # | K36: # | L36: # | M36: # | R36: # | S36: # | T36: # | W36: =COUNTA(D36:U36) -> 11
A37: Herring Gull | B37: Larus argentatus | E37: # | H37: # | I37: x | M37: # | W37: =COUNTA(D37:U37) -> 4
A38: House Martin | B38: Delichon urbica | E38: # | H38: # | R38: # | S38: # | W38: =COUNTA(D38:U38) -> 4
A39: House Sparrow | B39: Passer domesticus | D39: # | I39: x | K39: # | L39: # | M39: # | N39: # | O39: # | P39: # | Q39: # | R39: # | S39: # | T39: # | U39: # | W39: =COUNTA(D39:U39) -> 13
A40: Jackdaw | B40: Corvus monedula | H40: # | I40: # | J40: # | K40: # | L40: # | M40: # | N40: # | O40: # | P40: # | Q40: # | R40: # | S40: # | T40: # | U40: # | W40: =COUNTA(D40:U40) -> 14
A41: Jay | B41: Garruls glandarius | G41: # | K41: # | L41: # | M41: # | Q41: # | R41: # | S41: # | T41: # | U41: # | W41: =COUNTA(D41:U41) -> 9
...
