Workbook

Sheet Front-Page
B2: Dubwath Silver Meadows
B3: International Dawn Chorus Day: birds recorded from 2009 -2026 at location Grid Ref NY 198 307
B4: With 18 years worth of information, time to summarise it! | H4: The DawnChorus tab gives the full list of information.
D5: 2026 data | E5: 2025 data | G5: Summary data
B6: (# means seen on the day) | D6: seen on: | E6: seen on: | G6: number of times seen over:
A7: =DawnChorus!A5 -> Common name | B7: =DawnChorus!B5 -> Latin name | D7: 46145 | E7: 45781 | G7: =DawnChorus!W6 -> 18 | H7: years
A9: =DawnChorus!A7 -> Barn Owl | B9: =DawnChorus!B7 -> Tyto alba | G9: =DawnChorus!W7 -> 8
A10: =DawnChorus!A8 -> Blackbird | B10: =DawnChorus!B8 -> Turdus merula | D10: =DawnChorus!D8 -> # | E10: =DawnChorus!E8 -> # | G10: =DawnChorus!W8 -> 18
A11: =DawnChorus!A9 -> Blackcap | B11: =DawnChorus!B9 -> Sylvia atricapilla | D11: =DawnChorus!D9 -> # | E11: =DawnChorus!E9 -> # | G11: =DawnChorus!W9 -> 16
A12: =DawnChorus!A10 -> Blue Tit | B12: =DawnChorus!B10 -> Parus caeruleus | D12: =DawnChorus!D10 -> # | E12: =DawnChorus!E10 -> # | G12: =DawnChorus!W10 -> 18
A13: =DawnChorus!A11 -> Brambling | B13: =DawnChorus!B11 -> Fringilla montifringilla | G13: =DawnChorus!W11 -> 0
A14: =DawnChorus!A12 -> Bullfinch | B14: =DawnChorus!B12 -> Pyrrhula pyrrhula | E14: =DawnChorus!E12 -> # | G14: =DawnChorus!W12 -> 5
A15: =DawnChorus!A13 -> Buzzard | B15: =DawnChorus!B13 -> Buteo buteo | G15: =DawnChorus!W13 -> 7
A16: =DawnChorus!A14 -> Canada Goose | B16: =DawnChorus!B14 -> Branta Canadensis | G16: =DawnChorus!W14 -> 3
A17: =DawnChorus!A15 -> Carrion Crow | B17: =DawnChorus!B15 -> Corvus corone corone | D17: =DawnChorus!D15 -> # | E17: =DawnChorus!E15 -> # | G17: =DawnChorus!W15 -> 18
A18: =DawnChorus!A16 -> Chaffinch | B18: =DawnChorus!B16 -> Fringilla coelebs | E18: =DawnChorus!E16 -> # | G18: =DawnChorus!W16 -> 17
A19: =DawnChorus!A17 -> Chiffchaff | B19: =DawnChorus!B17 -> Phylloscopus collybita | D19: =DawnChorus!D17 -> # | E19: =DawnChorus!E17 -> # | G19: =DawnChorus!W17 -> 16
A20: =DawnChorus!A18 -> Coal Tit | B20: =DawnChorus!B18 -> Parus ater | D20: =DawnChorus!D18 -> # | E20: =DawnChorus!E18 -> # | G20: =DawnChorus!W18 -> 17
A21: =DawnChorus!A19 -> Collared Dove | B21: =DawnChorus!B19 -> Streptopelia decaocto | G21: =DawnChorus!W19 -> 3
A22: =DawnChorus!A20 -> Common Sandpiper | B22: =DawnChorus!B20 -> Actitis hypoleucos | G22: =DawnChorus!W20 -> 2
A23: =DawnChorus!A21 -> Cormorant | B23: =DawnChorus!B21 -> Phalacrocorax carbo | E23: =DawnChorus!E21 -> # | G23: =DawnChorus!W21 -> 3
A24: =DawnChorus!A22 -> Cuckoo | B24: =DawnChorus!B22 -> Cuculus canorus | D24: =DawnChorus!D22 -> # | E24: =DawnChorus!E22 -> # | G24: =DawnChorus!W22 -> 8
A25: =DawnChorus!A23 -> Curlew | B25: =DawnChorus!B23 -> Numenius arquata | E25: =DawnChorus!E23 -> # | G25: =DawnChorus!W23 -> 5
A26: =DawnChorus!A24 -> Dunnock | B26: =DawnChorus!B24 -> Prunella modularis | E26: =DawnChorus!E24 -> # | G26: =DawnChorus!W24 -> 15
A27: =DawnChorus!A25 -> Garden Warbler | B27: =DawnChorus!B25 -> Sylvia borin | D27: =DawnChorus!D25 -> # | G27: =DawnChorus!W25 -> 11
A28: =DawnChorus!A26 -> Goldcrest | B28: =DawnChorus!B26 -> Regulus regulus | G28: =DawnChorus!W26 -> 6
A29: =DawnChorus!A27 -> Goldfinch | B29: =DawnChorus!B27 -> Carduelis carduelis | D29: =DawnChorus!D27 -> # | E29: =DawnChorus!E27 -> # | G29: =DawnChorus!W27 -> 18
A30: =DawnChorus!A28 -> Goosander | B30: =DawnChorus!B28 -> Mergus merganser | G30: =DawnChorus!W28 -> 5
A31: =DawnChorus!A31 -> Great Crested Grebe | B31: =DawnChorus!B31 -> Podiceps cristatus | D31: =DawnChorus!D29 -> # | E31: =DawnChorus!E31 -> # | G31: =DawnChorus!W31 -> 1
A32: =DawnChorus!A32 -> Great Spotted Woodpecker | B32: =DawnChorus!B32 -> Dendrocopos major | D32: =DawnChorus!D30 -> # | E32: =DawnChorus!E32 -> # | G32: =DawnChorus!W32 -> 16
A33: =DawnChorus!A33 -> Great Tit | B33: =DawnChorus!B33 -> Parus major | E33: =DawnChorus!E33 -> # | G33: =DawnChorus!W33 -> 18
A34: =DawnChorus!A34 -> Greenfinch | B34: =DawnChorus!B34 -> Carduelis chloris | E34: =DawnChorus!E34 -> # | G34: =DawnChorus!W34 -> 11
A35: =DawnChorus!A35 -> Greylag Goose | B35: =DawnChorus!B35 -> Anser anser | D35: =DawnChorus!D33 -> # | E35: =DawnChorus!E35 -> # | G35: =DawnChorus!W35 -> 16
A36: =DawnChorus!A36 -> Heron | B36: =DawnChorus!B36 -> Ardea cinerea | E36: =DawnChorus!E36 -> # | G36: =DawnChorus!W36 -> 11
A37: =DawnChorus!A37 -> Herring Gull | B37: =DawnChorus!B37 -> Larus argentatus | D37: =DawnChorus!D35 -> # | E37: =DawnChorus!E37 -> # | G37: =DawnChorus!W37 -> 4
A38: =DawnChorus!A38 -> House Martin | B38: =DawnChorus!B38 -> Delichon urbica | E38: =DawnChorus!E38 -> # | G38: =DawnChorus!W38 -> 4
A39: =DawnChorus!A39 -> House Sparrow | B39: =DawnChorus!B39 -> Passer domesticus | G39: =DawnChorus!W39 -> 13
A40: =DawnChorus!A40 -> Jackdaw | B40: =DawnChorus!B40 -> Corvus monedula | G40: =DawnChorus!W40 -> 14
A41: =DawnChorus!A41 -> Jay | B41: =DawnChorus!B41 -> Garruls glandarius | D41: =DawnChorus!D39 -> # | G41: =DawnChorus!W41 -> 9
A42: =DawnChorus!A42 -> Kestrel | B42: =DawnChorus!B42 -> Falco tinnunculus | E42: =DawnChorus!E42 -> # | G42: =DawnChorus!W42 -> 5
A43: =DawnChorus!A43 -> Lapwing | B43: =DawnChorus!B43 -> Vanellus vanellus | G43: =DawnChorus!W43 -> 1
A44: =DawnChorus!A44 -> Lesser Black-backed Gull | B44: =DawnChorus!B44 -> Larus fuscus | E44: =DawnChorus!E44 -> # | G44: =DawnChorus!W44 -> 2
A45: =DawnChorus!A45 -> Lesser Redpoll | B45: =DawnChorus!B45 -> Acanthis cabaret | G45: =DawnChorus!W45 -> 5
A46: =DawnChorus!A46 -> Linnet | B46: =DawnChorus!B46 -> Acanthis cannabina | G46: =DawnChorus!W46 -> 1
A47: =DawnChorus!A47 -> Long-tailed Tit | B47: =DawnChorus!B47 -> Aegithalos caudatus | E47: =DawnChorus!E47 -> # | G47: =DawnChorus!W47 -> 9
A48: =DawnChorus!A48 -> Magpie | B48: =DawnChorus!B48 -> Pica pica | G48: =DawnChorus!W48 -> 7
A49: =DawnChorus!A49 -> Mallard | B49: =DawnChorus!B49 -> Anas platyrhynchos | D49: =DawnChorus!D47 -> # | E49: =DawnChorus!E49 -> # | G49: =DawnChorus!W49 -> 17
A50: =DawnChorus!A50 -> Mandarin Duck | B50: =DawnChorus!B50 -> Aix Galericulata | E50: =DawnChorus!E50 -> # | G50: =DawnChorus!W50 -> 2
A51: =DawnChorus!A51 -> Meadow Pipit | B51: =DawnChorus!B51 -> Anthus pratensis | D51: =DawnChorus!D49 -> # | G51: =DawnChorus!W51 -> 5
A52: =DawnChorus!A52 -> Mistle Thrush | B52: =DawnChorus!B52 -> Turdus viscivorus | E52: =DawnChorus!E52 -> # | G52: =DawnChorus!W52 -> 13
A53: =DawnChorus!A53 -> Moorhen | B53: =DawnChorus!B53 -> Gallinula chloropus | G53: =DawnChorus!W53 -> 1
A54: =DawnChorus!A54 -> Mute Swan | B54: =DawnChorus!B54 -> Cygnus olor | D54: =DawnChorus!D52 -> # | G54: =DawnChorus!W54 -> 4
A55: =DawnChorus!A55 -> Nuthatch | B55: =DawnChorus!B55 -> Sitta europaea | E55: =DawnChorus!E55 -> # | G55: =DawnChorus!W55 -> 15
A56: =DawnChorus!A56 -> Osprey | B56: =DawnChorus!B56 -> Pandion haliaetus | G56: =DawnChorus!W56 -> 2
A57: =DawnChorus!A57 -> Oystercatcher | B57: =DawnChorus!B57 -> Haematopus ostralegus | D57: =DawnChorus!D55 -> # | E57: =DawnChorus!E57 -> # | G57: =DawnChorus!W57 -> 6
A58: =DawnChorus!A58 -> Peregrine Falcon | B58: =DawnChorus!B58 -> Falco peregrinus | D58: =DawnChorus!D56 -> # | G58: =DawnChorus!W58 -> 1
A59: =DawnChorus!A59 -> Pheasant | B59: =DawnChorus!B59 -> Phasianus colchicus | E59: =DawnChorus!E59 -> # | G59: =DawnChorus!W59 -> 18
A60: =DawnChorus!A60 -> Pied Flycatcher | B60: =DawnChorus!B60 -> Ficedula hypoleuca | E60: =DawnChorus!E60 -> # | G60: =DawnChorus!W60 -> 10
A61: =DawnChorus!A61 -> Pied Wagtail | B61: =DawnChorus!B61 -> Motacilla alba | D61: =DawnChorus!D59 -> # | G61: =DawnChorus!W61 -> 5
A62: =DawnChorus!A62 -> Redpoll | B62: =DawnChorus!B62 -> Carduelis flammea | D62: =DawnChorus!D60 -> # | G62: =DawnChorus!W62 -> 4
A63: =DawnChorus!A63 -> Redstart | B63: =DawnChorus!B63 -> Phoenicurus phoenicurus | G63: =DawnChorus!W63 -> 4
A64: =DawnChorus!A64 -> Reed Bunting | B64: =DawnChorus!B64 -> Emberiza schoeniclus | E64: =DawnChorus!E64 -> # | G64: =DawnChorus!W64 -> 18
A65: =DawnChorus!A65 -> Robin | B65: =DawnChorus!B65 -> Erithacus rubecula | E65: =DawnChorus!E65 -> # | G65: =DawnChorus!W65 -> 18
A66: =DawnChorus!A66 -> Rook | B66: =DawnChorus!B66 -> Corvus frugilegus | D66: =DawnChorus!D64 -> # | E66: =DawnChorus!E66 -> # | G66: =DawnChorus!W66 -> 8
A67: =DawnChorus!A67 -> Sand Martin | B67: =DawnChorus!B67 -> Riparia riparia | D67: =DawnChorus!D65 -> # | G67: =DawnChorus!W67 -> 1
A68: =DawnChorus!A68 -> Sedge Warbler | B68: =DawnChorus!B68 -> Acrocephalus schoenobaenus | E68: =DawnChorus!E68 -> # | G68: =DawnChorus!W68 -> 16
A69: =DawnChorus!A69 -> Shelduck | B69: =DawnChorus!B69 -> Tadorna tadorna | G69: =DawnChorus!W69 -> 1
A70: =DawnChorus!A70 -> Siskin | B70: =DawnChorus!B70 -> Carduelis spinus | D70: =DawnChorus!D68 -> # | G70: =DawnChorus!W70 -> 14
A71: =DawnChorus!A71 -> Skylark | B71: =DawnChorus!B71 -> Alauda | E71: =DawnChorus!E71 -> # | G71: =DawnChorus!W71 -> 1
A72: =DawnChorus!A72 -> Snipe | B72: =DawnChorus!B72 -> Gallinago gallinago | D72: =DawnChorus!D70 -> # | G72: =DawnChorus!W72 -> 1
A73: =DawnChorus!A73 -> Song Thrush | B73: =DawnChorus!B73 -> Turdus philomelos | E73: =DawnChorus!E73 -> # | G73: =DawnChorus!W73 -> 17
A74: =DawnChorus!A74 -> Sparrowhawk | B74: =DawnChorus!B74 -> Accipiter nisus | G74: =DawnChorus!W74 -> 4
A75: =DawnChorus!A75 -> Stock Dove | B75: =DawnChorus!B75 -> Columba oenas | D75: =DawnChorus!D73 -> # | E75: =DawnChorus!E75 -> # | G75: =DawnChorus!W75 -> 3
A76: =DawnChorus!A76 -> Swallow | B76: =DawnChorus!B76 -> Hirundo rustica | G76: =DawnChorus!W76 -> 12
A77: =DawnChorus!A77 -> Swift | B77: =DawnChorus!B77 -> Apus apus | G77: =DawnChorus!W77 -> 1
A78: =DawnChorus!A78 -> Tawny Owl | B78: =DawnChorus!B78 -> Strix aluco | E78: =DawnChorus!E78 -> # | G78: =DawnChorus!W78 -> 7
A79: =DawnChorus!A79 -> Teal | B79: =DawnChorus!B79 -> Anas crecca | G79: =DawnChorus!W79 -> 1
A80: =DawnChorus!A80 -> Tree Creeper | B80: =DawnChorus!B80 -> Certhia familiaris | E80: =DawnChorus!E80 -> # | G80: =DawnChorus!W80 -> 8
A81: =DawnChorus!A81 -> Tree Pipit | B81: =DawnChorus!B81 -> Anthus trivialis | E81: =DawnChorus!E81 -> # | G81: =DawnChorus!W81 -> 3
A82: =DawnChorus!A82 -> Tree Sparrow | B82: =DawnChorus!B82 -> Passer montanus | G82: =DawnChorus!W82 -> 2
A83: =DawnChorus!A83 -> Whitethroat | B83: =DawnChorus!B83 -> Sylvia communis | G83: =DawnChorus!W83 -> 3
A84: =DawnChorus!A84 -> Willow warbler | B84: =DawnChorus!B84 -> Phylloscopus trochilus | E84: =DawnChorus!E84 -> # | G84: =DawnChorus!W84 -> 18
A85: =DawnChorus!A85 -> Wood Pigeon | B85: =DawnChorus!B85 -> Columba palumbus | E85: =DawnChorus!E85 -> # | G85: =DawnChorus!W85 -> 18
A86: =DawnChorus!A86 -> Wood Warbler | B86: =DawnChorus!B86 -> Phylloscopus sibilatrix | D86: =DawnChorus!D84 -> # | E86: =DawnChorus!E86 -> # | G86: =DawnChorus!W86 -> 2
A87: =DawnChorus!A87 -> Woodcock | B87: =DawnChorus!B87 -> Scolopax rusticola | D87: =DawnChorus!D85 -> # | G87: =DawnChorus!W87 -> 5
A88: =DawnChorus!A88 -> Wren | B88: =DawnChorus!B88 -> Troglodytes troglodytes | E88: =DawnChorus!E88 -> # | G88: =DawnChorus!W88 -> 17
A89: =DawnChorus!A89 -> Yellowhammer | B89: =DawnChorus!B89 -> Emberiza citrinella
A92: Number of species counted: | D92: =COUNTA(D7:D89) -> 29 | E92: =COUNTA(E7:E88) -> 46 | G92: =DawnChorus!B90 -> 83

Sheet DawnChorus
A1: Dubwath Silver Meadows
B2: International Dawn Chorus Day: birds recorded from 2009 - 2026 at location Grid Ref NY 198 307
J4: # = observed on the morning of the day.
A5: Common name | B5: Latin name | D5: 2026 | E5: 2025 | F5: 2024 | G5: 2023 | H5: 2022 | I5: 2021 | J5: 2020 | K5: 2019 | L5: 2018 | M5: 2017 | N5: 2016 | O5: 2015 | P5: 2014 | Q5: 2013 | R5: 2012 | S5: 2011 | T5: 2010 | U5: 2009 | W5: No. times seen in
D6: 46145 | E6: 45781 | F6: 45417 | G6: 45053 | H6: 44682 | I6: 44318 | J6: 43954 | K6: 43590 | L6: 43226 | M6: 42862 | N6: 42491 | O6: 42127 | P6: 41763 | Q6: 41399 | R6: 41035 | S6: 40664 | T6: 40300 | U6: 39936 | W6: =COUNTA(D5:U5) -> 18 | X6: years
A7: Barn Owl | B7: Tyto alba | F7: # | G7: # | H7: # | J7: # | K7: # | P7: # | R7: # | S7: # | W7: =COUNTA(D7:U7) -> 8
A8: Blackbird | B8: Turdus merula | D8: # | E8: # | F8: # | G8: # | H8: # | I8: # | J8: # | K8: # | L8: # | M8: # | N8: # | O8: # | P8: # | Q8: # | R8: # | S8: # | T8: # | U8: # | W8: =COUNTA(D8:U8) -> 18
A9: Blackcap | B9: Sylvia atricapilla | D9: # | E9: # | F9: # | G9: # | H9: # | I9: # | J9: # | K9: # | L9: # | M9: # | N9: # | P9: # | Q9: # | R9: # | S9: # | U9: # | W9: =COUNTA(D9:U9) -> 16
A10: Blue Tit | B10: Parus caeruleus | D10: # | E10: # | F10: # | G10: # | H10: # | I10: # | J10: # | K10: # | L10: # | M10: # | N10: # | O10: # | P10: # | Q10: # | R10: # | S10: # | T10: # | U10: # | W10: =COUNTA(D10:U10) -> 18
A11: Brambling | B11: Fringilla montifringilla | W11: =COUNTA(D11:U11) -> 0
A12: Bullfinch | B12: Pyrrhula pyrrhula | E12: # | H12: # | M12: # | R12: # | S12: # | W12: =COUNTA(D12:U12) -> 5
A13: Buzzard | B13: Buteo buteo | K13: # | M13: # | P13: # | Q13: # | R13: # | S13: # | U13: # | W13: =COUNTA(D13:U13) -> 7
A14: Canada Goose | B14: Branta Canadensis | F14: # | J14: # | M14: # | W14: =COUNTA(D14:U14) -> 3
A15: Carrion Crow | B15: Corvus corone corone | D15: # | E15: # | F15: # | G15: # | H15: # | I15: # | J15: # | K15: # | L15: # | M15: # | N15: # | O15: # | P15: # | Q15: # | R15: # | S15: # | T15: # | U15: # | W15: =COUNTA(D15:U15) -> 18
A16: Chaffinch | B16: Fringilla coelebs | E16: # | F16: # | G16: # | H16: # | I16: # | J16: # | K16: # | L16: # | M16: # | N16: # | O16: # | P16: # | Q16: # | R16: # | S16: # | T16: # | U16: # | W16: =COUNTA(D16:U16) -> 17
A17: Chiffchaff | B17: Phylloscopus collybita | D17: # | E17: # | F17: # | G17: # | H17: # | I17: # | J17: # | K17: # | L17: # | N17: # | O17: # | P17: # | Q17: # | R17: # | S17: # | T17: # | W17: =COUNTA(D17:U17) -> 16
A18: Coal Tit | B18: Parus ater | D18: # | E18: # | F18: # | G18: # | H18: # | I18: z | J18: # | K18: # | L18: # | M18: # | N18: # | O18: # | P18: # | Q18: # | R18: # | S18: # | T18: # | W18: =COUNTA(D18:U18) -> 17
A19: Collared Dove | B19: Streptopelia decaocto | G19: # | K19: # | L19: # | W19: =COUNTA(D19:U19) -> 3
A20: Common Sandpiper | B20: Actitis hypoleucos | Q20: # | S20: # | W20: =COUNTA(D20:U20) -> 2
A21: Cormorant | B21: Phalacrocorax carbo | E21: # | N21: # | R21: # | W21: =COUNTA(D21:U21) -> 3
A22: Cuckoo | B22: Cuculus canorus | D22: # | E22: # | F22: # | G22: # | I22: x | K22: # | L22: # | M22: # | W22: =COUNTA(D22:U22) -> 8
A23: Curlew | B23: Numenius arquata | E23: # | I23: x | K23: # | N23: # | R23: # | W23: =COUNTA(D23:U23) -> 5
A24: Dunnock | B24: Prunella modularis | E24: # | F24: # | G24: # | H24: # | I24: # | J24: ## | K24: # | M24: # | N24: # | O24: # | P24: # | Q24: # | R24: # | S24: # | T24: # | W24: =COUNTA(D24:U24) -> 15
A25: Garden Warbler | B25: Sylvia borin | D25: # | H25: # | I25: z | J25: # | K25: # | L25: # | M25: # | Q25: # | S25: # | T25: # | U25: # | W25: =COUNTA(D25:U25) -> 11
A26: Goldcrest | B26: Regulus regulus | G26: # | H26: # | I26: z | K26: # | L26: # | M26: # | W26: =COUNTA(D26:U26) -> 6
A27: Goldfinch | B27: Carduelis carduelis | D27: # | E27: # | F27: # | G27: # | H27: # | I27: z | J27: # | K27: # | L27: # | M27: # | N27: # | O27: # | P27: # | Q27: # | R27: # | S27: # | T27: # | U27: # | W27: =COUNTA(D27:U27) -> 18
A28: Goosander | B28: Mergus merganser | G28: # | H28: # | M28: # | R28: # | S28: # | W28: =COUNTA(D28:U28) -> 5
A29: Grasshopper warbler | B29: Locustella naevia | D29: # | E29: # | F29: # | G29: # | H29: # | J29: ## | M29: # | N29: # | P29: # | R29: # | S29: # | T29: # | U29: # | W29: =COUNTA(D29:U29) -> 13
A30: Great Blackbacked Gull | B30: Larus Marunus | D30: # | W30: =COUNTA(D30:U30) -> 1
A31: Great Crested Grebe | B31: Podiceps cristatus | E31: # | W31: =COUNTA(D31:U31) -> 1
A32: Great Spotted Woodpecker | B32: Dendrocopos major | E32: # | G32: # | H32: # | I32: z | J32: # | K32: # | L32: # | M32: # | N32: # | O32: # | P32: # | Q32: # | R32: # | S32: # | T32: # | U32: # | W32: =COUNTA(D32:U32) -> 16
A33: Great Tit | B33: Parus major | D33: # | E33: # | F33: # | G33: # | H33: # | I33: # | J33: # | K33: # | L33: # | M33: # | N33: # | O33: # | P33: # | Q33: # | R33: # | S33: # | T33: # | U33: # | W33: =COUNTA(D33:U33) -> 18
A34: Greenfinch | B34: Carduelis chloris | E34: # | G34: # | H34: # | J34: # | K34: # | M34: # | Q34: # | R34: # | S34: # | T34: # | U34: # | W34: =COUNTA(D34:U34) -> 11
A35: Greylag Goose | B35: Anser anser | D35: # | E35: # | F35: # | G35: # | H35: # | I35: # | J35: # | K35: # | L35: # | M35: # | N35: # | Q35: # | R35: # | S35: # | T35: # | U35: # | W35: =COUNTA(D35:U35) -> 16
A36: Heron | B36: Ardea cinerea | E36: # | F36: # | G36: # | I36: x | J36: # | K36: # | L36: # | M36: # | R36: # | S36: # | T36: # | W36: =COUNTA(D36:U36) -> 11
A37: Herring Gull | B37: Larus argentatus | E37: # | H37: # | I37: x | M37: # | W37: =COUNTA(D37:U37) -> 4
A38: House Martin | B38: Delichon urbica | E38: # | H38: # | R38: # | S38: # | W38: =COUNTA(D38:U38) -> 4
A39: House Sparrow | B39: Passer domesticus | D39: # | I39: x | K39: # | L39: # | M39: # | N39: # | O39: # | P39: # | Q39: # | R39: # | S39: # | T39: # | U39: # | W39: =COUNTA(D39:U39) -> 13
A40: Jackdaw | B40: Corvus monedula | H40: # | I40: # | J40: # | K40: # | L40: # | M40: # | N40: # | O40: # | P40: # | Q40: # | R40: # | S40: # | T40: # | U40: # | W40: =COUNTA(D40:U40) -> 14
A41: Jay | B41: Garruls glandarius | G41: # | K41: # | L41: # | M41: # | Q41: # | R41: # | S41: # | T41: # | U41: # | W41: =COUNTA(D41:U41) -> 9
A42: Kestrel | B42: Falco tinnunculus | E42: # | M42: # | R42: # | S42: # | U42: # | W42: =COUNTA(D42:U42) -> 5
A43: Lapwing | B43: Vanellus vanellus | M43: # | W43: =COUNTA(D43:U43) -> 1
A44: Lesser Black-backed Gull | B44: Larus fuscus | E44: # | H44: # | W44: =COUNTA(D44:U44) -> 2
A45: Lesser Redpoll | B45: Acanthis cabaret | H45: # | I45: z | K45: # | L45: # | M45: # | W45: =COUNTA(D45:U45) -> 5
A46: Linnet | B46: Acanthis cannabina | M46: # | W46: =COUNTA(D46:U46) -> 1
A47: Long-tailed Tit | B47: Aegithalos caudatus | D47: # | E47: # | G47: # | H47: # | J47: ## | K47: # | L47: # | P47: # | S47: # | W47: =COUNTA(D47:U47) -> 9
A48: Magpie | B48: Pica pica | I48: x | J48: ## | L48: # | M48: # | N48: # | O48: # | P48: # | W48: =COUNTA(D48:U48) -> 7
A49: Mallard | B49: Anas platyrhynchos | D49: # | E49: # | F49: # | G49: # | H49: # | I49: # | J49: # | K49: # | L49: # | M49: # | O49: # | P49: # | Q49: # | R49: # | S49: # | T49: # | U49: # | W49: =COUNTA(D49:U49) -> 17
A50: Mandarin Duck | B50: Aix Galericulata | E50: # | H50: # | W50: =COUNTA(D50:U50) -> 2
A51: Meadow Pipit | B51: Anthus pratensis | G51: # | M51: # | N51: # | R51: # | S51: # | W51: =COUNTA(D51:U51) -> 5
A52: Mistle Thrush | B52: Turdus viscivorus | D52: # | E52: # | G52: # | H52: # | I52: x | J52: # | K52: # | L52: # | M52: # | Q52: # | R52: # | S52: # | T52: # | W52: =COUNTA(D52:U52) -> 13
A53: Moorhen | B53: Gallinula chloropus | Q53: # | W53: =COUNTA(D53:U53) -> 1
A54: Mute Swan | B54: Cygnus olor | I54: z | N54: # | Q54: # | S54: # | W54: =COUNTA(D54:U54) -> 4
A55: Nuthatch | B55: Sitta europaea | D55: # | E55: # | F55: # | G55: # | I55: z | L55: # | M55: # | N55: # | O55: # | P55: # | Q55: # | R55: # | S55: # | T55: # | U55: # | W55: =COUNTA(D55:U55) -> 15
A56: Osprey | B56: Pandion haliaetus | D56: # | M56: # | W56: =COUNTA(D56:U56) -> 2
A57: Oystercatcher | B57: Haematopus ostralegus | E57: # | G57: # | I57: x | L57: # | M57: # | N57: # | W57: =COUNTA(D57:U57) -> 6
A58: Peregrine Falcon | B58: Falco peregrinus | S58: # | W58: =COUNTA(D58:U58) -> 1
A59: Pheasant | B59: Phasianus colchicus | D59: # | E59: # | F59: # | G59: # | H59: # | I59: # | J59: # | K59: # | L59: # | M59: # | N59: # | O59: # | P59: # | Q59: # | R59: # | S59: # | T59: # | U59: # | W59: =COUNTA(D59:U59) -> 18
A60: Pied Flycatcher | B60: Ficedula hypoleuca | D60: # | E60: # | F60: # | G60: # | H60: # | I60: z | L60: # | Q60: # | R60: # | T60: # | W60: =COUNTA(D60:U60) -> 10
A61: Pied Wagtail | B61: Motacilla alba | H61: # | I61: # | K61: # | L61: # | M61: # | W61: =COUNTA(D61:U61) -> 5
A62: Redpoll | B62: Carduelis flammea | H62: # | K62: # | S62: # | U62: # | W62: =COUNTA(D62:U62) -> 4
A63: Redstart | B63: Phoenicurus phoenicurus | H63: # | J63: # | L63: # | S63: # | W63: =COUNTA(D63:U63) -> 4
A64: Reed Bunting | B64: Emberiza schoeniclus | D64: # | E64: # | F64: # | G64: # | H64: # | I64: # | J64: # | K64: # | L64: # | M64: # | N64: # | O64: # | P64: # | Q64: # | R64: # | S64: # | T64: # | U64: # | W64: =COUNTA(D64:U64) -> 18
A65: Robin | B65: Erithacus rubecula | D65: # | E65: # | F65: # | G65: # | H65: # | I65: # | J65: # | K65: # | L65: # | M65: # | N65: # | O65: # | P65: # | Q65: # | R65: # | S65: # | T65: # | U65: # | W65: =COUNTA(D65:U65) -> 18
A66: Rook | B66: Corvus frugilegus | E66: # | I66: x | J66: # | K66: # | L66: # | N66: # | P66: # | Q66: # | W66: =COUNTA(D66:U66) -> 8
A67: Sand Martin | B67: Riparia riparia | N67: # | W67: =COUNTA(D67:U67) -> 1
A68: Sedge Warbler | B68: Acrocephalus schoenobaenus | D68: # | E68: # | F68: # | G68: # | J68: # | K68: # | L68: # | M68: # | N68: # | O68: # | P68: # | Q68: # | R68: # | S68: # | T68: # | U68: # | W68: =COUNTA(D68:U68) -> 16
A69: Shelduck | B69: Tadorna tadorna | H69: # | W69: =COUNTA(D69:U69) -> 1
A70: Siskin | B70: Carduelis spinus | D70: # | G70: # | H70: # | I70: z | J70: # | K70: # | L70: # | M70: # | N70: # | Q70: # | R70: # | S70: # | T70: # | U70: # | W70: =COUNTA(D70:U70) -> 14
A71: Skylark | B71: Alauda | E71: # | W71: =COUNTA(D71:U71) -> 1
A72: Snipe | B72: Gallinago gallinago | U72: # | W72: =COUNTA(D72:U72) -> 1
A73: Song Thrush | B73: Turdus philomelos | D73: # | E73: # | F73: # | G73: # | H73: # | I73: # | J73: # | K73: # | L73: # | M73: # | N73: # | O73: # | P73: # | Q73: # | R73: # | T73: # | U73: # | W73: =COUNTA(D73:U73) -> 17
A74: Sparrowhawk | B74: Accipiter nisus | F74: # | M74: # | O74: # | S74: # | W74: =COUNTA(D74:U74) -> 4
A75: Stock Dove | B75: Columba oenas | E75: # | K75: # | L75: # | W75: =COUNTA(D75:U75) -> 3
A76: Swallow | B76: Hirundo rustica | F76: # | G76: # | I76: z | K76: # | L76: # | M76: # | N76: # | O76: # | R76: # | S76: # | T76: # | U76: # | W76: =COUNTA(D76:U76) -> 12
A77: Swift | B77: Apus apus | F77: # | W77: =COUNTA(D77:U77) -> 1
A78: Tawny Owl | B78: Strix aluco | E78: # | F78: # | G78: # | H78: # | I78: # | J78: # | K78: # | W78: =COUNTA(D78:U78) -> 7
A79: Teal | B79: Anas crecca | M79: # | W79: =COUNTA(D79:U79) -> 1
A80: Tree Creeper | B80: Certhia familiaris | E80: # | F80: # | H80: # | M80: # | P80: # | R80: # | S80: # | T80: # | W80: =COUNTA(D80:U80) -> 8
A81: Tree Pipit | B81: Anthus trivialis | E81: # | H81: # | I81: # | W81: =COUNTA(D81:U81) -> 3
A82: Tree Sparrow | B82: Passer montanus | M82: # | N82: # | W82: =COUNTA(D82:U82) -> 2
A83: Whitethroat | B83: Sylvia communis | I83: z | M83: # | S83: # | W83: =COUNTA(D83:U83) -> 3
A84: Willow warbler | B84: Phylloscopus trochilus | D84: # | E84: # | F84: # | G84: # | H84: # | I84: # | J84: # | K84: # | L84: # | M84: # | N84: # | O84: # | P84: # | Q84: # | R84: # | S84: # | T84: # | U84: # | W84: =COUNTA(D84:U84) -> 18
A85: Wood Pigeon | B85: Columba palumbus | D85: # | E85: # | F85: # | G85: # | H85: # | I85: # | J85: # | K85: # | L85: # | M85: # | N85: # | O85: # | P85: # | Q85: # | R85: # | S85: # | T85: # | U85: # | W85: =COUNTA(D85:U85) -> 18
A86: Wood Warbler | B86: Phylloscopus sibilatrix | E86: # | T86: # | W86: =COUNTA(D86:U86) -> 2
A87: Woodcock | B87: Scolopax rusticola | I87: x | J87: # | M87: # | Q87: # | S87: # | W87: =COUNTA(D87:U87) -> 5
A88: Wren | B88: Troglodytes troglodytes | D88: # | E88: # | F88: # | G88: # | H88: # | I88: # | J88: # | K88: # | L88: # | N88: # | O88: # | P88: # | Q88: # | R88: # | S88: # | T88: # | U88: # | W88: =COUNTA(D88:U88) -> 17
A89: Yellowhammer | B89: Emberiza citrinella | W89: =COUNTA(D89:U89) -> 0
A90: Number of species observed: | B90: =COUNTA(A7:A89) -> 83 | D90: =COUNTA(D7:D89) -> 29 | E90: =COUNTA(E7:E89) -> 46 | F90: =COUNTA(F7:F89) -> 32 | G90: =COUNTA(G7:G89) -> 39 | H90: =COUNTA(H7:H89) -> 44 | I90: =COUNTA(I7:I89) -> 43 | J90: =COUNTA(J7:J89) -> 36 | K90: =COUNTA(K7:K89) -> 43 | ... U90: =COUNTA(U7:U89) -> 31
B91: Weather: | D91: Rain,no wind, cool, 9°C | E91: Dry, calm, slight breeze, slight overcast at start, then sunny. Cold, 4°C. | F91: Calm, 9°C, no wind, slight drizzle. | G91: Mild, 12°C, no wind, v. misty. | H91: Drizzle, easing by 06:00, 6°C, little if any wind | I91: Cold, dry, 2°C | J91: Dry, sunny, 4°C | K91: Dry, 3°C | L91: Dry, 8°C | M91: Dry, 3°C | N91: Rain, 7°C | O91: Rain, windy, 6°C | P91: Rain, 7°C | Q91: Dry, 8 °C | R91: Dry, -1°C | S91: Dry, 7°C | T91: Dry, 2°C | U91: Dry, 6°C
A92: Dave Thomason has kindly put together the above list of observed birds at DSM over the years. Not all have been seen at a Dawn Chorus! (these show as "0" in the list far right) | B92: Group Leaders: (not in any order!) | D92: David Thomason, Barbara Thomson | E92: David Thomason, Barbara Thomson, David Bruin | F92: Barbara Thomson, Tony Marsh, David Thomason. | G92: Barbara Thomson, Tony Marsh, David Bruin, David Thomason. On Moth duty, Peter Maqueen, | H92: David Thomason Barbara Thomson David Bruin Tony Marsh | I92: Covid-19 caused problems! Thanks to David Thomason and David Bruin for getting up early.Key: # = observed on 02/05 AND 23/05, x = observed ONLY on 02/05, z = observed ONLY on 23/05 | J92: Covid-19 caused problems! Thanks to Dave Thomason (03/05 - 32 species) and David Bruin (14/05) for this. The ones marked ## were seen on on 14/05. | K92: David Bruin, Tony Marsh, Dave Thomason, Barbara Thomson | L92: David Bruin, Peter Macqueen (not sure, records, incomplete), Dave Thomason, Barbara Thomson | M92: David Bruin, others we are not sure about (no records) but probably including Barbara Thomson | N92: Tony Marsh, others we are not sure about (no records) but probably including Barbara Thomson | O92: David Bruin, Tony Marsh, Dave Thomason, Barbara Thomson | P92: David Bruin, Tony Marsh, Dave Thomason, Barbara Thomson | Q92: David Bruin, Dave Thomason, Barbara Thomson, Denis White | R92: David Bruin, Peter Macqueen, Dave Tomason, Barbara Thomson, Denis White, Richard Wimpress | S92: David Bruin, John Malley, Barbara Thomsom, Denis White, Richard Wimpress | T92: David Holt, John Malley, Dave Thomason | U92: David Holt, John Malley, Barbara Thomson
A93: We have had various leaders over the years: Many thanks to David Bruin, David Holt, Dave Thomason, Peter Macqueen, John Malley, Tony Marsh, Barbara Thomson, Denis White and the late Richard Wimpress for their work. | E93: Also: 2 Roe Deer and a shrew! | F93: Also a roe deer. | G93: And also: a roe deer and a weasel!
H94: Breakdown of numbers from 2021:
H95: Observed ONLY on 02/05 | I95: =COUNTIF(I8:I89,"x") -> 10
H96: Observed on 02/05 AND 23/05 | I96: =COUNTIF(I8:I89,"#") -> 21
H97: Observed ONLY on 23/05 | I97: =COUNTIF(I8:I89,"z") -> 12
H98: Total for 02/05 | I98: =I95+I96 -> 31
H99: Total for 23/05 | I99: =I96+I97 -> 33
H101: Total for the two days (should equal the total!)) | I101: =SUM(I95:I97) -> 43
